BEGIN:VCALENDAR
VERSION:2.0
PRODID:-//Science Rocks - Jennifer Swanson - ECPv6.15.20//NONSGML v1.0//EN
CALSCALE:GREGORIAN
METHOD:PUBLISH
X-WR-CALNAME:Science Rocks - Jennifer Swanson
X-ORIGINAL-URL:https://jenniferswansonbooks.com
X-WR-CALDESC:Events for Science Rocks - Jennifer Swanson
REFRESH-INTERVAL;VALUE=DURATION:PT1H
X-Robots-Tag:noindex
X-PUBLISHED-TTL:PT1H
BEGIN:VTIMEZONE
TZID:America/New_York
BEGIN:DAYLIGHT
TZOFFSETFROM:-0500
TZOFFSETTO:-0400
TZNAME:EDT
DTSTART:20140309T070000
END:DAYLIGHT
BEGIN:STANDARD
TZOFFSETFROM:-0400
TZOFFSETTO:-0500
TZNAME:EST
DTSTART:20141102T060000
END:STANDARD
BEGIN:DAYLIGHT
TZOFFSETFROM:-0500
TZOFFSETTO:-0400
TZNAME:EDT
DTSTART:20150308T070000
END:DAYLIGHT
BEGIN:STANDARD
TZOFFSETFROM:-0400
TZOFFSETTO:-0500
TZNAME:EST
DTSTART:20151101T060000
END:STANDARD
BEGIN:DAYLIGHT
TZOFFSETFROM:-0500
TZOFFSETTO:-0400
TZNAME:EDT
DTSTART:20160313T070000
END:DAYLIGHT
BEGIN:STANDARD
TZOFFSETFROM:-0400
TZOFFSETTO:-0500
TZNAME:EST
DTSTART:20161106T060000
END:STANDARD
BEGIN:DAYLIGHT
TZOFFSETFROM:-0500
TZOFFSETTO:-0400
TZNAME:EDT
DTSTART:20170312T070000
END:DAYLIGHT
BEGIN:STANDARD
TZOFFSETFROM:-0400
TZOFFSETTO:-0500
TZNAME:EST
DTSTART:20171105T060000
END:STANDARD
END:VTIMEZONE
BEGIN:VEVENT
DTSTART;VALUE=DATE:20160610
DTEND;VALUE=DATE:20160613
DTSTAMP:20260421T190318
CREATED:20160304T202347Z
LAST-MODIFIED:20160304T202347Z
UID:399-1465516800-1465775999@jenniferswansonbooks.com
SUMMARY:21st Century Nonfiction Conference
DESCRIPTION:Workshop Presenter
URL:https://jenniferswansonbooks.com/event/21st-century-nonfiction-conference/
LOCATION:Unnamed Venue\, New York City\, NY\, United States
CATEGORIES:Author Appearances,Conventions
END:VEVENT
BEGIN:VEVENT
DTSTART;VALUE=DATE:20160603
DTEND;VALUE=DATE:20160606
DTSTAMP:20260421T190318
CREATED:20160304T202245Z
LAST-MODIFIED:20160304T202245Z
UID:397-1464912000-1465171199@jenniferswansonbooks.com
SUMMARY:NJSCBWI Conference
DESCRIPTION:Workshop Presenter
URL:https://jenniferswansonbooks.com/event/njscbwi-conference/
LOCATION:Unnamed Venue\, Princeton\, NJ\, United States
CATEGORIES:Author Appearances,Conventions
END:VEVENT
BEGIN:VEVENT
DTSTART;TZID=America/New_York:20160410T120000
DTEND;TZID=America/New_York:20160414T120000
DTSTAMP:20260421T190318
CREATED:20150129T143303Z
LAST-MODIFIED:20151009T171754Z
UID:188-1460289600-1460635200@jenniferswansonbooks.com
SUMMARY:Highlights Foundation Workshop
DESCRIPTION:Presenting\n“The Nuts and Bolts of Science Writing”  \n\nJennifer Swanson is a self-professed science geek and the author of twenty nonfiction and fiction books. She has three books forthcoming from National Geographic and one with Charlesbridge.  Her book How Hybrid Cars Work received a starred review from Booklist and also a Top 10 Books for Youth 2012 Award from Booklist Online. Several of Jennifer’s other books have received “highly recommended” reviews from the National Science Teacher Association\, as well as School Library Journal. Body Bugs was a 2012 Tri-state Book of Note and designated an award winner by the Pennsylvania School Librarians Association. Her favorite saying to her students is to “notice the science all around you.
URL:https://jenniferswansonbooks.com/event/highlights-foundation-workshop/
LOCATION:Highlights for Children\, 392 Boyds Mills Rd\, HONESDALE\, PA\, United States
CATEGORIES:Conventions
END:VEVENT
BEGIN:VEVENT
DTSTART;TZID=America/New_York:20151021T080000
DTEND;TZID=America/New_York:20151023T170000
DTSTAMP:20260421T190318
CREATED:20151009T172741Z
LAST-MODIFIED:20151009T172741Z
UID:339-1445414400-1445619600@jenniferswansonbooks.com
SUMMARY:2015 Florida Association for Media in Education
DESCRIPTION:FAME Presenter
URL:https://jenniferswansonbooks.com/event/2015-florida-association-for-media-in-education/
LOCATION:Rosen Shingle Creek Resort\, 9939 Universal Blvd.\, 32819\, United States
CATEGORIES:Conventions
END:VEVENT
BEGIN:VEVENT
DTSTART;TZID=America/New_York:20151009T080000
DTEND;TZID=America/New_York:20151011T170000
DTSTAMP:20260421T190318
CREATED:20151009T172345Z
LAST-MODIFIED:20151009T172345Z
UID:336-1444377600-1444582800@jenniferswansonbooks.com
SUMMARY:Florida Reading Association Conference
DESCRIPTION:Presenter
URL:https://jenniferswansonbooks.com/event/florida-reading-association-conference/
LOCATION:The Florida Hotel & Conference Center\, 1500 Sand Lake Rd\, 32809\, United States
CATEGORIES:Conventions
END:VEVENT
BEGIN:VEVENT
DTSTART;VALUE=DATE:20150606
DTEND;VALUE=DATE:20150608
DTSTAMP:20260421T190318
CREATED:20150112T171906Z
LAST-MODIFIED:20150112T172014Z
UID:172-1433548800-1433721599@jenniferswansonbooks.com
SUMMARY:SCBWI FL Mid-Year Orlando Conference
DESCRIPTION:Jennifer Swanson will be presenting “Novel\, Nonfiction\, and Work-for-Hire Workshop” at the SCBWI Florida Mid-Year Conference \nSharing what she has learned is important to Jennifer: \n“I firmly believe that I wouldn’t be where I am today without the help and support of several really special author friends who took the time to “show me the ropes” and guide me on my journey. SCBWI has also played a huge part in my success. I think of myself as one of their success stories. At my second conference I met the amazing Elaine Landau who took the time to show an aspiring author how to jump start her career and make it soar.” \nHer years of freelance writing\, taking writing classes\, and attending conferences to learn and network will add spice and incitiful information to any conference or workshop. For information on topics and fees\, please email Jennifer
URL:https://jenniferswansonbooks.com/event/scbwi-fl-mid-year-orlando-conference/
LOCATION:Walt Disney World Swan and Dolphin Resort\, 1500 Epcot Resorts Blvd\, FL\, 32830\, United States
CATEGORIES:Author Appearances,Conventions
END:VEVENT
END:VCALENDAR